BEGIN:VCALENDAR
VERSION:2.0
PRODID:-//Duke Farms - ECPv6.15.18//NONSGML v1.0//EN
CALSCALE:GREGORIAN
METHOD:PUBLISH
X-ORIGINAL-URL:https://www.dukefarms.org
X-WR-CALDESC:Events for Duke Farms
REFRESH-INTERVAL;VALUE=DURATION:PT1H
X-Robots-Tag:noindex
X-PUBLISHED-TTL:PT1H
BEGIN:VTIMEZONE
TZID:America/New_York
BEGIN:DAYLIGHT
TZOFFSETFROM:-0500
TZOFFSETTO:-0400
TZNAME:EDT
DTSTART:20230312T070000
END:DAYLIGHT
BEGIN:STANDARD
TZOFFSETFROM:-0400
TZOFFSETTO:-0500
TZNAME:EST
DTSTART:20231105T060000
END:STANDARD
BEGIN:DAYLIGHT
TZOFFSETFROM:-0500
TZOFFSETTO:-0400
TZNAME:EDT
DTSTART:20240310T070000
END:DAYLIGHT
BEGIN:STANDARD
TZOFFSETFROM:-0400
TZOFFSETTO:-0500
TZNAME:EST
DTSTART:20241103T060000
END:STANDARD
BEGIN:DAYLIGHT
TZOFFSETFROM:-0500
TZOFFSETTO:-0400
TZNAME:EDT
DTSTART:20250309T070000
END:DAYLIGHT
BEGIN:STANDARD
TZOFFSETFROM:-0400
TZOFFSETTO:-0500
TZNAME:EST
DTSTART:20251102T060000
END:STANDARD
END:VTIMEZONE
BEGIN:VEVENT
DTSTART;TZID=America/New_York:20240125T190000
DTEND;TZID=America/New_York:20240125T203000
DTSTAMP:20260420T022144
CREATED:20240103T210108Z
LAST-MODIFIED:20240104T143423Z
UID:10000176-1706209200-1706214600@www.dukefarms.org
SUMMARY:Orchids Under the Wolf Moon
DESCRIPTION:Join us for this after-hours program scheduled to highlight January’s full moon over the spectacular Orchid Range.\n\n\nMeet at the Farm Barn Orientation Center and take in the subtle changes that nightfall brings to Duke Farms during an evening walk to the Orchid Range. There\, we will encounter a wide variety of orchids\, many of which are most fragrant at night\, and observe the incredible diversity to be found in their structure and ecology. Are their specialized growing conditions and complex pollinator/fungal relationships the reason for the orchids’ reputation as fragile and fickle plants\, or is this simply what happens when a species is displaced from its native habitat? \nThis program is appropriate for adults. Please dress for the weather. Participants should be prepared to walk over 2 miles on paved trails. \nMeet in front of the Farm Barn Orientation Center for check-in. We recommend arriving 10-15 minutes before the start of class. We cannot accommodate late arrivals and the class will depart on time. \n\n\nProgram Guidelines\nPre-registration is required\, walk-ins are not accepted. Please let us know if you are no longer able to attend so your space can be offered to someone else. Cancellations received at least 48 hours in advance are eligible for a refund\, if applicable. Programs at Duke Farms are RAIN or SHINE\, but in the event of severe weather\, classes may be canceled. Email notice will be given as early as possible via email and refunds will be issued in the case of cancellations. \nWe provide reasonable accommodations for persons with disabilities. If a reasonable accommodation is needed to participate\, please contact us at registrations@dukefarms.org.
URL:https://www.dukefarms.org/event/orchids-under-the-wolf-moon/
LOCATION:Duke Farms\, 1112 Dukes Pkwy W\, Hillsborough\, NJ\, 08844\, United States
CATEGORIES:Class
ATTACH;FMTTYPE=image/jpeg:https://www.dukefarms.org/wp-content/uploads/2024/01/a51ea4513b4f1466696ee0042bb063ef-a8gUTO.tmp_.jpg
END:VEVENT
END:VCALENDAR