BEGIN:VCALENDAR
VERSION:2.0
PRODID:-//Duke Farms - ECPv6.15.18//NONSGML v1.0//EN
CALSCALE:GREGORIAN
METHOD:PUBLISH
X-ORIGINAL-URL:https://www.dukefarms.org
X-WR-CALDESC:Events for Duke Farms
REFRESH-INTERVAL;VALUE=DURATION:PT1H
X-Robots-Tag:noindex
X-PUBLISHED-TTL:PT1H
BEGIN:VTIMEZONE
TZID:America/New_York
BEGIN:DAYLIGHT
TZOFFSETFROM:-0500
TZOFFSETTO:-0400
TZNAME:EDT
DTSTART:20230312T070000
END:DAYLIGHT
BEGIN:STANDARD
TZOFFSETFROM:-0400
TZOFFSETTO:-0500
TZNAME:EST
DTSTART:20231105T060000
END:STANDARD
BEGIN:DAYLIGHT
TZOFFSETFROM:-0500
TZOFFSETTO:-0400
TZNAME:EDT
DTSTART:20240310T070000
END:DAYLIGHT
BEGIN:STANDARD
TZOFFSETFROM:-0400
TZOFFSETTO:-0500
TZNAME:EST
DTSTART:20241103T060000
END:STANDARD
BEGIN:DAYLIGHT
TZOFFSETFROM:-0500
TZOFFSETTO:-0400
TZNAME:EDT
DTSTART:20250309T070000
END:DAYLIGHT
BEGIN:STANDARD
TZOFFSETFROM:-0400
TZOFFSETTO:-0500
TZNAME:EST
DTSTART:20251102T060000
END:STANDARD
END:VTIMEZONE
BEGIN:VEVENT
DTSTART;TZID=America/New_York:20240330T143000
DTEND;TZID=America/New_York:20240330T154500
DTSTAMP:20260419T235426
CREATED:20240220T154505Z
LAST-MODIFIED:20240220T183856Z
UID:10000104-1711809000-1711813500@www.dukefarms.org
SUMMARY:Signs of Spring
DESCRIPTION:Mark the return of spring on a nature walk that explores some favorite signs of the changing seasons.\n\n\nAs spring unfolds\, the land reveals so much to witness and celebrate. On this walk\, take time to read the land for signs of the changing seasons: bursting buds\, birdsong\, buzzing bees\, and spring ephemerals—the inconspicuous early bloomers that serve as vital sources of nectar and pollen for native insects. We’ll keep an eye out for these fascinating plants while enjoying all the other highlights of this season of awakening. \n\n\nProgram Preparation\nPlease dress for the forecasted weather and bring water and anything else you may need. This class is entirely outdoors. Participants should expect to travel about 2 miles on pavement\, gravel\, or flat trails for the full duration of the class. Meet in front of the Farm Barn Orientation Center for check-in. We recommend arriving 10-15 minutes before the start of class. \n\n\nProgram Guidelines\nRegistration is required. Please let us know if you are no longer able to attend so your space can be offered to someone else. Cancellations received at least 48 hours in advance are eligible for a refund\, if applicable. Programs at Duke Farms are RAIN or SHINE\, but in the event of severe weather\, classes may be canceled. Email notice will be given as early as possible via email and refunds will be issued in the case of cancellations. \nWe provide reasonable accommodations for persons with disabilities. If a reasonable accommodation is needed to participate\, please contact us at registrations@dukefarms.org.
URL:https://www.dukefarms.org/event/signs-of-spring-2/
LOCATION:Duke Farms\, 1112 Dukes Pkwy W\, Hillsborough\, NJ\, 08844\, United States
CATEGORIES:Class
ATTACH;FMTTYPE=image/jpeg:https://www.dukefarms.org/wp-content/uploads/2024/02/9f533d119d398d2dc4db795b31e08db5-9WXY9v.tmp_.jpg
END:VEVENT
BEGIN:VEVENT
DTSTART;TZID=America/New_York:20240330T183000
DTEND;TZID=America/New_York:20240330T194500
DTSTAMP:20260419T235426
CREATED:20240220T215755Z
LAST-MODIFIED:20240221T165325Z
UID:10000106-1711823400-1711827900@www.dukefarms.org
SUMMARY:A "Peep" at Vernal Pools
DESCRIPTION:With the return of spring comes a nightly chorus of chirps and peeps\, but those aren’t birds you’re hearing!\n\n\nJoin us as we seek out the frogs responsible in their unique\, ephemeral habitat: the vernal pool. One of Spring’s most fascinating—and fleeting—features\, vernal pools come and go with the changing of seasons. Discover how to find vernal pools\, what other wildlife calls them home\, why they play such an important role in their larger ecosystem\, and what we can do to protect them. \n\n\nProgram Preparation\nPlease dress for the forecasted weather and bring water and anything else you may need. This class is entirely outdoors. Participants should expect to travel about 2 miles on pavement\, gravel\, or flat trails for the full duration of the class. Meet in front of the Farm Barn Orientation Center for check-in. We recommend arriving 10-15 minutes before the start of class. \n\n\nProgram Guidelines\nRegistration is required. Please let us know if you are no longer able to attend so your space can be offered to someone else. Cancellations received at least 48 hours in advance are eligible for a refund\, if applicable. Programs at Duke Farms are RAIN or SHINE\, but in the event of severe weather\, classes may be canceled. Email notice will be given as early as possible via email and refunds will be issued in the case of cancellations. \nWe provide reasonable accommodations for persons with disabilities. If a reasonable accommodation is needed to participate\, please contact us at registrations@dukefarms.org.
URL:https://www.dukefarms.org/event/a-peep-at-vernal-pools-2/
LOCATION:Duke Farms\, 1112 Dukes Pkwy W\, Hillsborough\, NJ\, 08844\, United States
CATEGORIES:Class
ATTACH;FMTTYPE=image/jpeg:https://www.dukefarms.org/wp-content/uploads/2024/02/b2dba2d544363f80870dd9c5f5c0e216-1TpTpG.tmp_.jpg
END:VEVENT
END:VCALENDAR