BEGIN:VCALENDAR
VERSION:2.0
PRODID:-//Duke Farms - ECPv6.15.18//NONSGML v1.0//EN
CALSCALE:GREGORIAN
METHOD:PUBLISH
X-ORIGINAL-URL:https://www.dukefarms.org
X-WR-CALDESC:Events for Duke Farms
REFRESH-INTERVAL;VALUE=DURATION:PT1H
X-Robots-Tag:noindex
X-PUBLISHED-TTL:PT1H
BEGIN:VTIMEZONE
TZID:America/New_York
BEGIN:DAYLIGHT
TZOFFSETFROM:-0500
TZOFFSETTO:-0400
TZNAME:EDT
DTSTART:20230312T070000
END:DAYLIGHT
BEGIN:STANDARD
TZOFFSETFROM:-0400
TZOFFSETTO:-0500
TZNAME:EST
DTSTART:20231105T060000
END:STANDARD
BEGIN:DAYLIGHT
TZOFFSETFROM:-0500
TZOFFSETTO:-0400
TZNAME:EDT
DTSTART:20240310T070000
END:DAYLIGHT
BEGIN:STANDARD
TZOFFSETFROM:-0400
TZOFFSETTO:-0500
TZNAME:EST
DTSTART:20241103T060000
END:STANDARD
BEGIN:DAYLIGHT
TZOFFSETFROM:-0500
TZOFFSETTO:-0400
TZNAME:EDT
DTSTART:20250309T070000
END:DAYLIGHT
BEGIN:STANDARD
TZOFFSETFROM:-0400
TZOFFSETTO:-0500
TZNAME:EST
DTSTART:20251102T060000
END:STANDARD
END:VTIMEZONE
BEGIN:VEVENT
DTSTART;TZID=America/New_York:20240629T070000
DTEND;TZID=America/New_York:20240629T090000
DTSTAMP:20260419T175539
CREATED:20240616T231119Z
LAST-MODIFIED:20240621T132207Z
UID:10000191-1719644400-1719651600@www.dukefarms.org
SUMMARY:Birding & Stewardship Series: American Kestrel
DESCRIPTION:Build it and they will come\, stewardship edition\n\n\nJoin an up with the birds walk through restored wetlands to learn about the restoration efforts at Duke Farms and how birds like American Kestrels\, among other species\, benefit. Thanks to these restoration efforts many bird species utilize this habitat for nesting sites and food sources. Learn about how vital these ecosystems are to bird populations\, why restoration is important and how Duke Farms did it. Participants will also learn basic birding skills such as using binoculars\, field guides\, and community science apps like eBird and Merlin.  \n\n\nProgram Guidelines\nRegistration is required. Please let us know if you are no longer able to attend so your space can be offered to someone else. Cancellations received at least 48 hours in advance are eligible for a refund\, if applicable. Programs at Duke Farms are RAIN or SHINE\, but in the event of severe weather\, classes may be canceled. Email notice will be given as early as possible via email and refunds will be issued in the case of cancellations. \nPlease note\, we will be traveling through areas with increased potential for tick exposure. Please come prepared.  \nWe provide reasonable accommodations for persons with disabilities. If a reasonable accommodation is needed to participate\, please contact us at registrations@dukefarms.org.
URL:https://www.dukefarms.org/event/birding-stewardship-series-american-kestrel/
LOCATION:Duke Farms\, 1112 Dukes Pkwy W\, Hillsborough\, NJ\, 08844\, United States
CATEGORIES:Class
ATTACH;FMTTYPE=image/jpeg:https://www.dukefarms.org/wp-content/uploads/2024/06/3bd071996bcdd81d9be96c1721186b10-vUbwHq.tmp_.jpg
END:VEVENT
END:VCALENDAR