BEGIN:VCALENDAR
VERSION:2.0
PRODID:-//Duke Farms - ECPv6.15.18//NONSGML v1.0//EN
CALSCALE:GREGORIAN
METHOD:PUBLISH
X-ORIGINAL-URL:https://www.dukefarms.org
X-WR-CALDESC:Events for Duke Farms
REFRESH-INTERVAL;VALUE=DURATION:PT1H
X-Robots-Tag:noindex
X-PUBLISHED-TTL:PT1H
BEGIN:VTIMEZONE
TZID:America/New_York
BEGIN:DAYLIGHT
TZOFFSETFROM:-0500
TZOFFSETTO:-0400
TZNAME:EDT
DTSTART:20230312T070000
END:DAYLIGHT
BEGIN:STANDARD
TZOFFSETFROM:-0400
TZOFFSETTO:-0500
TZNAME:EST
DTSTART:20231105T060000
END:STANDARD
BEGIN:DAYLIGHT
TZOFFSETFROM:-0500
TZOFFSETTO:-0400
TZNAME:EDT
DTSTART:20240310T070000
END:DAYLIGHT
BEGIN:STANDARD
TZOFFSETFROM:-0400
TZOFFSETTO:-0500
TZNAME:EST
DTSTART:20241103T060000
END:STANDARD
BEGIN:DAYLIGHT
TZOFFSETFROM:-0500
TZOFFSETTO:-0400
TZNAME:EDT
DTSTART:20250309T070000
END:DAYLIGHT
BEGIN:STANDARD
TZOFFSETFROM:-0400
TZOFFSETTO:-0500
TZNAME:EST
DTSTART:20251102T060000
END:STANDARD
END:VTIMEZONE
BEGIN:VEVENT
DTSTART;TZID=America/New_York:20240810T210000
DTEND;TZID=America/New_York:20240810T223000
DTSTAMP:20260419T163344
CREATED:20240716T153815Z
LAST-MODIFIED:20240807T190743Z
UID:10000119-1723323600-1723329000@www.dukefarms.org
SUMMARY:Intro to Astronomy
DESCRIPTION:Join us for a night under the stars at Duke Farms!\n\n\nJoin us for a night under the stars at Duke Farms! We will start in the classroom with an introduction to understand space\, and then take a one-mile walk to observe several objects through telescopes. We might also see some nocturnal critters! \nPlease note that this class requires clear skies and will have a rain date of August 10th if necessary. Check your email after registering for updates. \n\n\nProgram Guidelines\nRegistration is required. Please let us know if you are no longer able to attend so your space can be offered to someone else. Cancellations received at least 48 hours in advance are eligible for a refund\, if applicable. Programs at Duke Farms are RAIN or SHINE\, but in the event of severe weather\, classes may be canceled. Email notice will be given as early as possible via email and refunds will be issued in the case of cancellations. \nWe provide reasonable accommodations for persons with disabilities. If a reasonable accommodation is needed to participate\, please contact us at registrations@dukefarms.org.
URL:https://www.dukefarms.org/event/intro-to-astronomy/
LOCATION:Duke Farms\, 1112 Dukes Pkwy W\, Hillsborough\, NJ\, 08844\, United States
CATEGORIES:Class
ATTACH;FMTTYPE=image/jpeg:https://www.dukefarms.org/wp-content/uploads/2024/07/caac28906ec01c50e1c825cd3f3b493f-ArUx5V.tmp_.jpg
END:VEVENT
END:VCALENDAR