BEGIN:VCALENDAR
VERSION:2.0
PRODID:-//Duke Farms - ECPv6.15.18//NONSGML v1.0//EN
CALSCALE:GREGORIAN
METHOD:PUBLISH
X-ORIGINAL-URL:https://www.dukefarms.org
X-WR-CALDESC:Events for Duke Farms
REFRESH-INTERVAL;VALUE=DURATION:PT1H
X-Robots-Tag:noindex
X-PUBLISHED-TTL:PT1H
BEGIN:VTIMEZONE
TZID:America/New_York
BEGIN:DAYLIGHT
TZOFFSETFROM:-0500
TZOFFSETTO:-0400
TZNAME:EDT
DTSTART:20230312T070000
END:DAYLIGHT
BEGIN:STANDARD
TZOFFSETFROM:-0400
TZOFFSETTO:-0500
TZNAME:EST
DTSTART:20231105T060000
END:STANDARD
BEGIN:DAYLIGHT
TZOFFSETFROM:-0500
TZOFFSETTO:-0400
TZNAME:EDT
DTSTART:20240310T070000
END:DAYLIGHT
BEGIN:STANDARD
TZOFFSETFROM:-0400
TZOFFSETTO:-0500
TZNAME:EST
DTSTART:20241103T060000
END:STANDARD
BEGIN:DAYLIGHT
TZOFFSETFROM:-0500
TZOFFSETTO:-0400
TZNAME:EDT
DTSTART:20250309T070000
END:DAYLIGHT
BEGIN:STANDARD
TZOFFSETFROM:-0400
TZOFFSETTO:-0500
TZNAME:EST
DTSTART:20251102T060000
END:STANDARD
END:VTIMEZONE
BEGIN:VEVENT
DTSTART;TZID=America/New_York:20240815T180000
DTEND;TZID=America/New_York:20240815T193000
DTSTAMP:20260419T161850
CREATED:20240710T185713Z
LAST-MODIFIED:20240716T153400Z
UID:10000117-1723744800-1723750200@www.dukefarms.org
SUMMARY:Beginner's Tree ID
DESCRIPTION:Trees do a lot for us; why not learn how to thank them by name?\n\n\nSuch constant features of our landscape\, trees can be easy to take for granted compared to an unexpected wildflower or a chance wildlife sighting. But this time of verdancy is an invitation to pay closer attention to the steadfast giants that share and shape our land. Join us to get to know their defining traits and impressive diversity a little better\, and learn how to identify the trees nearest to your home or heart! \n\n\nProgram Guidelines\nRegistration is required. Please let us know if you are no longer able to attend so your space can be offered to someone else. Cancellations received at least 48 hours in advance are eligible for a refund\, if applicable. Programs at Duke Farms are RAIN or SHINE\, but in the event of severe weather\, classes may be canceled. Email notice will be given as early as possible via email and refunds will be issued in the case of cancellations. \nWe provide reasonable accommodations for persons with disabilities. If a reasonable accommodation is needed to participate\, please contact us at registrations@dukefarms.org.
URL:https://www.dukefarms.org/event/beginners-tree-id/
LOCATION:Duke Farms\, 1112 Dukes Pkwy W\, Hillsborough\, NJ\, 08844\, United States
CATEGORIES:Class
ATTACH;FMTTYPE=image/jpeg:https://www.dukefarms.org/wp-content/uploads/2024/07/7829789ed30ac0d9b3f37a20c8d8b680-BHKfvQ.tmp_.jpg
END:VEVENT
END:VCALENDAR