BEGIN:VCALENDAR
VERSION:2.0
PRODID:-//Duke Farms - ECPv6.15.18//NONSGML v1.0//EN
CALSCALE:GREGORIAN
METHOD:PUBLISH
X-ORIGINAL-URL:https://www.dukefarms.org
X-WR-CALDESC:Events for Duke Farms
REFRESH-INTERVAL;VALUE=DURATION:PT1H
X-Robots-Tag:noindex
X-PUBLISHED-TTL:PT1H
BEGIN:VTIMEZONE
TZID:America/New_York
BEGIN:DAYLIGHT
TZOFFSETFROM:-0500
TZOFFSETTO:-0400
TZNAME:EDT
DTSTART:20230312T070000
END:DAYLIGHT
BEGIN:STANDARD
TZOFFSETFROM:-0400
TZOFFSETTO:-0500
TZNAME:EST
DTSTART:20231105T060000
END:STANDARD
BEGIN:DAYLIGHT
TZOFFSETFROM:-0500
TZOFFSETTO:-0400
TZNAME:EDT
DTSTART:20240310T070000
END:DAYLIGHT
BEGIN:STANDARD
TZOFFSETFROM:-0400
TZOFFSETTO:-0500
TZNAME:EST
DTSTART:20241103T060000
END:STANDARD
BEGIN:DAYLIGHT
TZOFFSETFROM:-0500
TZOFFSETTO:-0400
TZNAME:EDT
DTSTART:20250309T070000
END:DAYLIGHT
BEGIN:STANDARD
TZOFFSETFROM:-0400
TZOFFSETTO:-0500
TZNAME:EST
DTSTART:20251102T060000
END:STANDARD
END:VTIMEZONE
BEGIN:VEVENT
DTSTART;TZID=America/New_York:20240413T090000
DTEND;TZID=America/New_York:20240413T170000
DTSTAMP:20260419T175538
CREATED:20240212T194336Z
LAST-MODIFIED:20240221T182611Z
UID:10000181-1712998800-1713027600@www.dukefarms.org
SUMMARY:Map & Compass Navigation
DESCRIPTION:Learn the techniques and importance behind map and compass navigation.\n\n\nCourse Overview\nHave you ever gone off-trail to relieve yourself and wondered what you would do if you got turned around? Maybe you need to get back to your vehicle before a thunderstorm rolls in but you aren’t sure you trust yourself to take an off-trail shortcut. This course teaches the off-trail map & compass skills needed for just such occasions. \nHave you been telling yourself for years you would learn map & compass navigation but the opportunity never presented itself? This is your chance to learn it once and for all from Search and Rescue personnel. We’ll go over all the parts and features of the compass as well as becoming proficient with traveling along an azimuth (bearing) and feeling confident when navigating off-trail. Simplifying the way the skills are taught\, focusing on correct compass stance form\, training to a high accuracy when sighting landmarks\, and overall simplification combined with proper technique repetition are what set this course apart. We’ll also dive into overall map reading\, such as understanding all the symbols on a map\, trail configurations\, and reading contour lines like you’re reading a picture book. Students walk away with a level of confidence they did not think possible for their future adventures and now have the skills to get safely home even when… slightly misplaced. \nA compass and a map will be provided for use during class if needed. More details provided after class registration. \nFeatured Topics:\n\nMap reading including understanding contour lines\nOrienteering techniques\nUsing a compass with a map\nCompass use in the field\n\n\n\nAbout the Instructors\nJoe Galvan is a lifelong hiker and in his element when sharing outdoor experiences\, mentoring others\, and connecting with the outdoor-minded in our community. Joe is a search and rescue officer and instructor\, MRA accredited mountain rescue unit lead\, National Park Service Technical Rope Rescue instructor\, Adirondack Winter Mountaineering School Instructor\, Adirondack 46er\, and an accomplished mountaineer with ascents across North America and Europe. \nScott Fitterman grew up hiking and camping in an outdoor-minded family and became a scout leader to give back when his 3 kids joined scouting. Scott is a search and rescue officer and instructor\, volunteer EMT\, wilderness first responder and wilderness EMT instructor\, public safety diver\, National Park Services technical rope rescue graduate\, Catskill 35er\, New York State Licensed Guide\, and leads week-long treks in the backcountry for scouts in the northeast. \nLearn more about the instructors and The TrailBound Project. \n\n\nPrerequisites\nThis program assumes participants are comfortable outdoors in the woods. This course will take place partially outdoors and will require some hiking on various trails (paved and unpaved) and terrains (uneven rocky off-trail hiking). \n\n\nProgram Guidelines\nRegistration is required. Please let us know if you are no longer able to attend so your space can be offered to someone else. Cancellations received at least 48 hours in advance are eligible for a refund\, if applicable. Programs at Duke Farms are RAIN or SHINE\, but in the event of severe weather\, classes may be canceled. Email notice will be given as early as possible via email and refunds will be issued in the case of cancellations. \nWe provide reasonable accommodations for persons with disabilities. If a reasonable accommodation is needed to participate\, please contact us at registrations@dukefarms.org.
URL:https://www.dukefarms.org/event/map-compass-navigation-3/
LOCATION:Duke Farms\, 1112 Dukes Pkwy W\, Hillsborough\, NJ\, 08844\, United States
ATTACH;FMTTYPE=image/jpeg:https://www.dukefarms.org/wp-content/uploads/2024/02/f62a0f6e53906f0879da1ed3de882d46-kWbWKx.tmp_.jpg
END:VEVENT
BEGIN:VEVENT
DTSTART;TZID=America/New_York:20240426T194500
DTEND;TZID=America/New_York:20240426T214500
DTSTAMP:20260419T175538
CREATED:20240410T165329Z
LAST-MODIFIED:20240410T165329Z
UID:10000110-1714160700-1714167900@www.dukefarms.org
SUMMARY:Twilight Orchid Exploration
DESCRIPTION:A guided walk through our orchid range will have you seeing this plant family in a whole new light—literally.\n\n\nWe’ll first take in the subtle changes that nightfall brings to Duke Farms during a twilight walk from the Orientation Center to the Orchid Range. There\, we’ll encounter a wide variety of orchids\, some of which are most fragrant at night\, and explore the incredible diversity to be found in their structure and life history. Are their specialized growing conditions and complex ecological relationships the reason for orchids’ reputation as fragile and fickle plants\, or is this simply what happens when a species is displaced from its native habitat? \nThis program is appropriate for adults. Please dress for the weather. Participants should be prepared to walk over 2 miles on paved trails. \nMeet in front of the Farm Barn Orientation Center for check-in. We recommend arriving 10-15 minutes before the start of class. We cannot accommodate late arrivals and the class will depart on time.
URL:https://www.dukefarms.org/event/twilight-orchid-exploration/
LOCATION:Duke Farms\, 1112 Dukes Pkwy W\, Hillsborough\, NJ\, 08844\, United States
ATTACH;FMTTYPE=image/jpeg:https://www.dukefarms.org/wp-content/uploads/2024/04/c782b18b768a6bf0877610d70dd15181-eZKmMb.tmp_.jpg
END:VEVENT
END:VCALENDAR