BEGIN:VCALENDAR
VERSION:2.0
PRODID:-//Duke Farms - ECPv6.15.18//NONSGML v1.0//EN
CALSCALE:GREGORIAN
METHOD:PUBLISH
X-WR-CALNAME:Duke Farms
X-ORIGINAL-URL:https://www.dukefarms.org
X-WR-CALDESC:Events for Duke Farms
REFRESH-INTERVAL;VALUE=DURATION:PT1H
X-Robots-Tag:noindex
X-PUBLISHED-TTL:PT1H
BEGIN:VTIMEZONE
TZID:America/New_York
BEGIN:DAYLIGHT
TZOFFSETFROM:-0500
TZOFFSETTO:-0400
TZNAME:EDT
DTSTART:20230312T070000
END:DAYLIGHT
BEGIN:STANDARD
TZOFFSETFROM:-0400
TZOFFSETTO:-0500
TZNAME:EST
DTSTART:20231105T060000
END:STANDARD
BEGIN:DAYLIGHT
TZOFFSETFROM:-0500
TZOFFSETTO:-0400
TZNAME:EDT
DTSTART:20240310T070000
END:DAYLIGHT
BEGIN:STANDARD
TZOFFSETFROM:-0400
TZOFFSETTO:-0500
TZNAME:EST
DTSTART:20241103T060000
END:STANDARD
BEGIN:DAYLIGHT
TZOFFSETFROM:-0500
TZOFFSETTO:-0400
TZNAME:EDT
DTSTART:20250309T070000
END:DAYLIGHT
BEGIN:STANDARD
TZOFFSETFROM:-0400
TZOFFSETTO:-0500
TZNAME:EST
DTSTART:20251102T060000
END:STANDARD
END:VTIMEZONE
BEGIN:VEVENT
DTSTART;TZID=America/New_York:20241102T080000
DTEND;TZID=America/New_York:20241102T100000
DTSTAMP:20260418T220547
CREATED:20241010T134452Z
LAST-MODIFIED:20241025T165456Z
UID:10000208-1730534400-1730541600@www.dukefarms.org
SUMMARY:Birding & Stewardship Series: Cedar Waxwing
DESCRIPTION:Build it and they will come—stewardship edition.\n\n\nParticipants will go on an early morning birding walk through multiple types of restored habitat and ending at the Arboretum. Along the way\, we’ll learn how Duke Farms’s restoration efforts have supported our bird of the month\, the cedar waxwing! Thanks to these efforts\, many warblers and other bird species can find nesting sites and food sources here on our grounds\, and we’ll talk about birding for all of them. Also learn how vital these ecosystems are to bird populations\, why restoration is important\, and how Duke Farms did it! \nParticipants will come away with basic birding skills such as using binoculars\, using field guides\, and taking advantage of community science apps like eBird and Merlin. \n\n\nProgram Guidelines\nRegistration is required. Please let us know if you are no longer able to attend so your space can be offered to someone else. Cancellations received at least 48 hours in advance are eligible for a refund\, if applicable. \nPrograms at Duke Farms are RAIN or SHINE\, but in the event of severe weather\, classes may be rescheduled or cancelled. This program has a rain date of November 9. Email notice will be given as early as possible via email and refunds will be issued in the case of cancellations. \nPlease note\, we will be traveling through areas with increased potential for tick exposure. Please come prepared. \nWe provide reasonable accommodations for persons with disabilities. If a reasonable accommodation is needed to participate\, please contact us at registrations@dukefarms.org.
URL:https://www.dukefarms.org/event/birding-stewardship-series-cedar-waxwing/
LOCATION:Duke Farms\, 1112 Dukes Pkwy W\, Hillsborough\, NJ\, 08844\, United States
ATTACH;FMTTYPE=image/jpeg:https://www.dukefarms.org/wp-content/uploads/2024/10/c603dbe75b9f3482be56c3edc878961b-msOMGT.tmp_.jpg
END:VEVENT
BEGIN:VEVENT
DTSTART;TZID=America/New_York:20241102T100000
DTEND;TZID=America/New_York:20241102T110000
DTSTAMP:20260418T220547
CREATED:20241025T015132Z
LAST-MODIFIED:20241025T165457Z
UID:10000217-1730541600-1730545200@www.dukefarms.org
SUMMARY:The Year of the Oak
DESCRIPTION:Acorns galore!\n\n\nHave you noticed an unusually large amount of acorns falling from oak trees this fall? This is because this year is a “mast year” for some species of oak trees. Learn more about why oak trees mast\, what significance this has on our forests\, and how oaks and wildlife alike benefit from this adaptation. \n\n\nProgram Guidelines\nRegistration is required. Please let us know if you are no longer able to attend so your space can be offered to someone else. Cancellations received at least 48 hours in advance are eligible for a refund\, if applicable. Programs at Duke Farms are RAIN or SHINE\, but in the event of severe weather\, classes may be canceled. Email notice will be given as early as possible via email and refunds will be issued in the case of cancellations. \nWe provide reasonable accommodations for persons with disabilities. If a reasonable accommodation is needed to participate\, please contact us at registrations@dukefarms.org.
URL:https://www.dukefarms.org/event/the-year-of-the-oak-2/
LOCATION:Duke Farms\, 1112 Dukes Pkwy W\, Hillsborough\, NJ\, 08844\, United States
ATTACH;FMTTYPE=image/jpeg:https://www.dukefarms.org/wp-content/uploads/2024/10/50c354d31a056b2a85c60aa3817e950f-wcqQq2.tmp_.jpg
END:VEVENT
BEGIN:VEVENT
DTSTART;TZID=America/New_York:20241108T170000
DTEND;TZID=America/New_York:20241108T190000
DTSTAMP:20260418T220547
CREATED:20241010T134452Z
LAST-MODIFIED:20241025T015158Z
UID:10000209-1731085200-1731092400@www.dukefarms.org
SUMMARY:Birding & Stewardship Series: Barred Owl
DESCRIPTION:Build it and they will come—stewardship edition.\n\n\nParticipants will go on an evening birding walk through Duke Farms to learn about the meadow and forest restoration projects that have supported our bird of the month\, the barred owl. Thanks to these efforts\, many warblers and other bird species can find nesting sites and food sources here on our grounds\, and we’ll talk about birding for all of them. Also learn how vital these ecosystems are to bird populations\, why restoration is important\, and how Duke Farms did it! \nFollowing the owl walk\, participants will dissect owl pellets to learn more about their diets.  \nParticipants will come away with basic birding skills such as using binoculars\, using field guides\, and taking advantage of community science apps like eBird and Merlin. \n\n\nProgram Guidelines\nRegistration is required. Please let us know if you are no longer able to attend so your space can be offered to someone else. Cancellations received at least 48 hours in advance are eligible for a refund\, if applicable. \nPrograms at Duke Farms are RAIN or SHINE\, but in the event of severe weather\, classes may be rescheduled or cancelled. This program has a rain date of November 15. Email notice will be given as early as possible via email and refunds will be issued in the case of cancellations. \nPlease note\, we will be traveling through areas with increased potential for tick exposure. Please come prepared. \nWe provide reasonable accommodations for persons with disabilities. If a reasonable accommodation is needed to participate\, please contact us at registrations@dukefarms.org.
URL:https://www.dukefarms.org/event/birding-stewardship-series-barred-owl/
LOCATION:Duke Farms\, 1112 Dukes Pkwy W\, Hillsborough\, NJ\, 08844\, United States
ATTACH;FMTTYPE=image/jpeg:https://www.dukefarms.org/wp-content/uploads/2024/10/c043a700e7e07e6c917ef9f175b35ba7-yywYJ4.tmp_.jpg
END:VEVENT
BEGIN:VEVENT
DTSTART;TZID=America/New_York:20241109T090000
DTEND;TZID=America/New_York:20241109T130000
DTSTAMP:20260418T220547
CREATED:20240731T185418Z
LAST-MODIFIED:20241025T015159Z
UID:10000122-1731142800-1731157200@www.dukefarms.org
SUMMARY:Autumn Dendrology Workshop
DESCRIPTION:In this course\, we will explore the trees of Duke Farms through the lens of biology\, ecology\, and biodiversity.\n\n\nCourse Overview\nLecture material on how trees fit into our local ecosystems—both today and into the future—will contextualize the strong focus on tree identification necessary to understand these complex organisms. Some background in basic tree identification is recommended\, but not required. This course will be geared toward educators\, land managers\, ecologists\, conservationists\, shade tree commission members\, and other professionals. \nFeatured Topics\n\nTree identification\nClimate change impacts\n\n\n\nContinuing Education Credits\nThe Autumn Dendrology Workshop is approved for credits from the following organizations. \nNew Jersey Board of Tree Experts: TBD \nNew Jersey Urban and Community Forestry (NJUCF):  TBD \nInternational Society for Arboriculture:  TBD \nAmerican Society for Landscape Architects:  TBD \n\n\nPrerequisites\nThis program assumes participants have a basic knowledge of native species identification and understand general ecology concepts. Please note that classes will take place partially outdoors and will require travelling several miles on various trail types (paved and unpaved) and uneven terrain for up to 3 hours. \n\n\nProgram Guidelines\nPre-registration is required\, walk-ins are not be accepted. Please let us know if you are no longer able to attend so your space can be offered to someone else. Cancellations received at least 48 hours in advance are eligible for a refund\, if applicable. Programs at Duke Farms are RAIN or SHINE\, but in the event of severe weather\, classes may be canceled. Email notice will be given as early as possible via email and refunds will be issued in the case of cancellations. \nWe provide reasonable accommodations for persons with disabilities. If a reasonable accommodation is needed to participate\, please contact us at registrations@dukefarms.org.
URL:https://www.dukefarms.org/event/autumn-dendrology-workshop-2/
LOCATION:Duke Farms\, 1112 Dukes Pkwy W\, Hillsborough\, NJ\, 08844\, United States
CATEGORIES:Continuing Education
ATTACH;FMTTYPE=image/jpeg:https://www.dukefarms.org/wp-content/uploads/2024/07/e38dd6e7ce7d7a812f35320f1c85f737-MPn6tE.tmp_.jpg
END:VEVENT
BEGIN:VEVENT
DTSTART;TZID=America/New_York:20241115T100000
DTEND;TZID=America/New_York:20241115T120000
DTSTAMP:20260418T220547
CREATED:20240809T133100Z
LAST-MODIFIED:20241025T015159Z
UID:10000194-1731664800-1731672000@www.dukefarms.org
SUMMARY:Science Writing Workshop
DESCRIPTION:Master the art of science storytelling!\n\n\nCourse Overview\nLearn the fundamentals of science communication with an award-winning author! The workshop begins with a 20-minute presentation on how to effectively use written language to share scientific information with a general audience\, then a follow up Q&A. The presentation is followed by a 45-minute writing activity\, with additional time afterwards for sharing and critique. \nPlease come prepared with a notebook and writing utensil\, or a laptop/tablet for the writing activity. \n\n\nAbout the Instructor\nChris Alice “Alie” Kratzer is an engineer\, scientist\, entrepreneur\, illustrator\, and author. She serves as the founder and Director of Owlfly LLC and manages its two divisions: Owlfly Engineering and Owlfly Publishing. Alie’s newest book is The Cicadas of North America\, an unparalleled glimpse into the lives of some of the world’s most delightful insects. Her first book\, The Social Wasps of North America\, was released in 2022 and established Alie as one of the youngest published field guide authors in history. \n\n\nProgram Guidelines\nRegistration is required. Please let us know if you are no longer able to attend so your space can be offered to someone else. Cancellations received at least 48 hours in advance are eligible for a refund\, if applicable. Programs at Duke Farms are RAIN or SHINE\, but in the event of severe weather\, classes may be canceled. Email notice will be given as early as possible via email and refunds will be issued in the case of cancellations. \nWe provide reasonable accommodations for persons with disabilities. If a reasonable accommodation is needed to participate\, please contact us at registrations@dukefarms.org.
URL:https://www.dukefarms.org/event/science-writing-workshop/
LOCATION:Duke Farms\, 1112 Dukes Pkwy W\, Hillsborough\, NJ\, 08844\, United States
CATEGORIES:Continuing Education
ATTACH;FMTTYPE=image/jpeg:https://www.dukefarms.org/wp-content/uploads/2024/08/660b0412458615a1ee0072d4877962bf-Mxpvq1.tmp_.jpg
END:VEVENT
END:VCALENDAR